BEGIN:VCALENDAR
VERSION:2.0
PRODID:-//wp-events-plugin.com//6.6.3//EN
TZID:Europe/London
X-WR-TIMEZONE:Europe/London
BEGIN:VEVENT
UID:56@stopclimatechaos.scot
DTSTART;TZID=Europe/London;VALUE=DATE:20190924
DTEND;TZID=Europe/London;VALUE=DATE:20190926
DTSTAMP:20190920T094742Z
URL:https://www.stopclimatechaos.scot/events/actions-for-final-debate-of-t
 he-climate-bill-ipcc-reading/
SUMMARY:The Final Push
DESCRIPTION:After months and years of campaigning on Scotland's new climate
  bill\, we now have the final date. MSPs in the Scottish Parliament will 
 pass the law on Wednesday 25th September. That means we have just days l
 eft to improve Scotland's climate targets.\nThe week of the debate we hav
 e planned a series of events and actions to ask MSPs to deliver a Cliamte 
 Act fit for a Climate Emergency.\nIPCC Report Reading:\nIn the run up to t
 he final vote\, we’ll be outside the Scottish Parliament reading key sec
 tions of the IPCC 'Special Report on Global Warming of 1.5ºC' and remindi
 ng politicians of the need to act on the climate emergency and what is at 
 stake.\nWe'll be there Tuesday 24th 1-6pm and  on Wednesday 25th 830am-1
 30pm.\nMorning Action:\n\nOn the morning of the debate on 25th we'll be at
  the doors of the Parliament with our Climate Emergency mobilisation remin
 ding MSPs what is at stake. We are inviting anyone to join us there with b
 anners and visuals referencing emergency.\n\nLunchtime Mobilization:\n\nIf
  you can only make it for a short time\, we are inviting as many as possib
 le to be there for 1230pm-1330pm on Wednesday 25th to make our voices hear
 d to politicians directly  ahead of the debate.\n\nJoin us to Watch the D
 ebate:\n\nSome of us will be in the chamber but if you haven't got a ticke
 t\, or you prefer more relaxed atmosphere\, join us upstairs at Hemma for 
 a Live Streaming of the debate 2-5:30pm 25th\n\nJoin us to Celebrate all t
 he hard work!\n\nAfter months and years of work on this bill\, let's take 
 some time to celebrate the hard work with a bit of socialising afterwards 
 from 5:30pm\n\nAND DON'T FORGET TO TAKE PART IN OUR E-ACTION!
ATTACH;FMTTYPE=image/jpeg:https://www.stopclimatechaos.scot/wp-content/upl
 oads/2019/03/DSC_0447-1-e1553856584130.jpg
CATEGORIES:Marches &amp; Rallies,Action
END:VEVENT
BEGIN:VTIMEZONE
TZID:Europe/London
X-LIC-LOCATION:Europe/London
BEGIN:DAYLIGHT
DTSTART:20190331T020000
TZOFFSETFROM:+0000
TZOFFSETTO:+0100
TZNAME:BST
END:DAYLIGHT
END:VTIMEZONE
END:VCALENDAR