BEGIN:VCALENDAR
VERSION:2.0
PRODID:-//wp-events-plugin.com//6.6.3//EN
TZID:Europe/London
X-WR-TIMEZONE:Europe/London
BEGIN:VEVENT
UID:48@stopclimatechaos.scot
DTSTART;TZID=Europe/London:20190412T110000
DTEND;TZID=Europe/London:20190412T140000
DTSTAMP:20190409T091150Z
URL:https://www.stopclimatechaos.scot/events/glasgow-youth-strike/
SUMMARY:Glasgow Youth Strike
DESCRIPTION:Dance for the climate!\n\nThe youth strikes continue this Frida
 y in Glasgow's George Square\, come along for a mix of dance tunes and tra
 d music.\n\nMore details available here.
ATTACH;FMTTYPE=image/jpeg:https://www.stopclimatechaos.scot/wp-content/upl
 oads/2019/01/FREE-PICTURE-Climate-Emergency-Demonstration-MED-RES-02.jpg
CATEGORIES:Action
LOCATION:George Square\, George Square\, Glasgow\, G2 1DH\, United Kingdom
GEO:55.8611637;-4.250165100000004
X-APPLE-STRUCTURED-LOCATION;VALUE=URI;X-ADDRESS=George Square\, Glasgow\, G
 2 1DH\, United Kingdom;X-APPLE-RADIUS=100;X-TITLE=George Square:geo:55.861
 1637,-4.250165100000004
END:VEVENT
BEGIN:VTIMEZONE
TZID:Europe/London
X-LIC-LOCATION:Europe/London
BEGIN:DAYLIGHT
DTSTART:20190331T020000
TZOFFSETFROM:+0000
TZOFFSETTO:+0100
TZNAME:BST
END:DAYLIGHT
END:VTIMEZONE
END:VCALENDAR