BEGIN:VCALENDAR
VERSION:2.0
PRODID:-//wp-events-plugin.com//6.6.3//EN
TZID:Europe/London
X-WR-TIMEZONE:Europe/London
BEGIN:VEVENT
UID:12@stopclimatechaos.scot
DTSTART;TZID=Europe/London;VALUE=DATE:20190619
DTEND;TZID=Europe/London;VALUE=DATE:20190622
DTSTAMP:20190107T120826Z
URL:https://www.stopclimatechaos.scot/events/world-forum-on-climate-justic
 e-changing-the-narrative/
SUMMARY:World Forum on Climate Justice
DESCRIPTION:\n"With clear benefits to people and natural ecosystems\, limit
 ing global warming to 1.5°C compared to 2°C could go hand-in-hand with e
 nsuring a more sustainable and equitable society."\n\nChanging the narrati
 ve: This inaugural World Forum on Climate Justice will bring together lead
 ing civil society groups\, academics\, business representatives\, members 
 of the public\, and policymakers to foster new thinking and explore pressi
 ng topics in climate justice advocacy\, research\, policy and practice as 
 we adapt to reach the 1.5°C goal.\n\nThe conference will take place at Gl
 asgow Caledonian University from the 19th - 21st June 2019.\n\nConfirmed s
 peakers\n\nMary Robinson\, Mary Robinson Foundation - Climate Justice\, R
 epublic of Ireland\n\nKevin Bales\, Professor of Contemporary Slavery\, Un
 iversity of Nottingham\n\nPatrick Bond\, Professor of Political Economy\, 
 University of the Witwatersrand\, South Africa\n\nKristie L Ebi\, Professo
 r of Global Health\, University of Washington\, USA\n\nLars Kullerud\, Pre
 sident\, University of The Arctic\, Norway\n\nBenjamin K. Sovacool\, Profe
 ssor of Energy Policy\, University of Sussex\n\nYifat Susskind\, Executive
  Director\, MADRE\, USA\n\nFor more details or to register to attend\, cl
 ick here.
ATTACH;FMTTYPE=image/jpeg:https://www.stopclimatechaos.scot/wp-content/upl
 oads/2018/11/WorldForumCJ2019-sml.jpeg
LOCATION:Glasgow Caledonian University\, Cowcaddens Road\, Glasgow\, G4 0BA
 \, United Kingdom
GEO:55.8658549;-4.2506643000000395
X-APPLE-STRUCTURED-LOCATION;VALUE=URI;X-ADDRESS=Cowcaddens Road\, Glasgow\,
  G4 0BA\, United Kingdom;X-APPLE-RADIUS=100;X-TITLE=Glasgow Caledonian Uni
 versity:geo:55.8658549,-4.2506643000000395
END:VEVENT
BEGIN:VTIMEZONE
TZID:Europe/London
X-LIC-LOCATION:Europe/London
BEGIN:DAYLIGHT
DTSTART:20190331T020000
TZOFFSETFROM:+0000
TZOFFSETTO:+0100
TZNAME:BST
END:DAYLIGHT
END:VTIMEZONE
END:VCALENDAR